BEGIN:VCALENDAR
VERSION:2.0
PRODID:-//Van Buren Chamber of Commerce - ECPv6.7.0//NONSGML v1.0//EN
CALSCALE:GREGORIAN
METHOD:PUBLISH
X-WR-CALNAME:Van Buren Chamber of Commerce
X-ORIGINAL-URL:https://seevanburenmo.com
X-WR-CALDESC:Events for Van Buren Chamber of Commerce
REFRESH-INTERVAL;VALUE=DURATION:PT1H
X-Robots-Tag:noindex
X-PUBLISHED-TTL:PT1H
BEGIN:VTIMEZONE
TZID:America/Denver
BEGIN:DAYLIGHT
TZOFFSETFROM:-0700
TZOFFSETTO:-0600
TZNAME:MDT
DTSTART:20240310T090000
END:DAYLIGHT
BEGIN:STANDARD
TZOFFSETFROM:-0600
TZOFFSETTO:-0700
TZNAME:MST
DTSTART:20241103T080000
END:STANDARD
END:VTIMEZONE
BEGIN:VEVENT
DTSTART;VALUE=DATE:20241206
DTEND;VALUE=DATE:20241208
DTSTAMP:20260424T041511
CREATED:20241121T015900Z
LAST-MODIFIED:20241121T015900Z
UID:244591-1733443200-1733615999@seevanburenmo.com
SUMMARY:Christmas Bazaar
DESCRIPTION:Kids Corner- Fairy Garden\, Geode Cracking\, Gem Panning\, Fossil Quarry \nThis event will be inside and heated\, there will be a variety of vendors \nThis will be Friday\, December 6th 3pm-7pm and Saturday\, December 7th 9am-5pm
URL:https://seevanburenmo.com/event/christmas-bazaar/
LOCATION:Dollie Lane\, 108 Dollie Lane Warehouse #3\, Van Buren\, MO\, 63965
END:VEVENT
END:VCALENDAR