BEGIN:VCALENDAR
VERSION:2.0
PRODID:-//Van Buren Chamber of Commerce - ECPv6.7.0//NONSGML v1.0//EN
CALSCALE:GREGORIAN
METHOD:PUBLISH
X-WR-CALNAME:Van Buren Chamber of Commerce
X-ORIGINAL-URL:https://seevanburenmo.com
X-WR-CALDESC:Events for Van Buren Chamber of Commerce
REFRESH-INTERVAL;VALUE=DURATION:PT1H
X-Robots-Tag:noindex
X-PUBLISHED-TTL:PT1H
BEGIN:VTIMEZONE
TZID:America/Denver
BEGIN:DAYLIGHT
TZOFFSETFROM:-0700
TZOFFSETTO:-0600
TZNAME:MDT
DTSTART:20240310T090000
END:DAYLIGHT
BEGIN:STANDARD
TZOFFSETFROM:-0600
TZOFFSETTO:-0700
TZNAME:MST
DTSTART:20241103T080000
END:STANDARD
END:VTIMEZONE
BEGIN:VEVENT
DTSTART;VALUE=DATE:20241005
DTEND;VALUE=DATE:20241006
DTSTAMP:20260424T065720
CREATED:20240913T202121Z
LAST-MODIFIED:20240913T202445Z
UID:243856-1728086400-1728172799@seevanburenmo.com
SUMMARY:Pop's River Jam & Fall Festival
DESCRIPTION:This year’s event will be cram-packed with all kinds of different activities! Pop’s River Jam & Fall Festival\, Pop’s River Jam Car Show\, Pop’s Little Miss Fall Festival Pageant\, Pop’s Baby Miss Fall Festival Pageant and more will be located at Riverfront Park in Van Buren MO this year. There will be shuttles running throughout town so you can park in any of the designated parking areas and hitch a hayride to the event or stop by the local shops and check things out. Check out Pop’s River Jam & Fall Festivall Facebook Page for more information!
URL:https://seevanburenmo.com/event/pops-river-jam-fall-festival/
LOCATION:MO
ATTACH;FMTTYPE=image/jpeg:https://seevanburenmo.com/wp-content/uploads/2024/09/original-78D4D9E1-76FD-400A-8A09-D46BC9CA88C4.jpeg
END:VEVENT
BEGIN:VEVENT
DTSTART;TZID=America/Denver:20241019T130000
DTEND;TZID=America/Denver:20241019T130000
DTSTAMP:20260424T065720
CREATED:20240920T005125Z
LAST-MODIFIED:20241017T004548Z
UID:243880-1729342800-1729342800@seevanburenmo.com
SUMMARY:BBQ Cookoff!
DESCRIPTION:Rivertime RV will be hosting a BBQ cookoff on Saturday October 19th at their campground in Van Buren starting at 1:00 pm. Fire up your grill and enjoy an afternoon with games\, live music and fun for the whole family! $200 cash prize for 1st place! Call Treva for more information: 417-372-7301 \nCookoff entry is $25 for the chance to win\, Otherwise this is a free event for the public you can purchase a plate for $10 this includes 1 meat and 2 sides\, $12 to add a drink and dessert. Come out and enjoy the fun and bring a lawn chair!
URL:https://seevanburenmo.com/event/bbq-cookoff/
LOCATION:River Time RV\, 1802 Gossett Ln\, Van Buren\, MO\, 63965
ATTACH;FMTTYPE=image/jpeg:https://seevanburenmo.com/wp-content/uploads/2024/09/BBQ.jpg
END:VEVENT
BEGIN:VEVENT
DTSTART;TZID=America/Denver:20241025T170000
DTEND;TZID=America/Denver:20241026T230000
DTSTAMP:20260424T065720
CREATED:20240913T164827Z
LAST-MODIFIED:20240913T165006Z
UID:243848-1729875600-1729983600@seevanburenmo.com
SUMMARY:DarkSky Missouri Festival
DESCRIPTION:Friday October 25\, 2024 \n4:00PM Registration Table Opens\, 5:00PM-6:00PM Shaun Heise presents\, 6:00PM-10:00PM Dark Sky Viewing \n  \n  \nSaturday October 26\, 2024 \n8:00AM-10:00AM Nature/bird walk Co-led with Reva Dow and Greg Swick\, 10:00AM-1:00PM Free time\, 1:00PM-1:30PM How Big is Big Spring with Loring Bullard\, 1:30PM-2:15PM Early Logging of Old Growth Pine with Jim Gulden\, 2:15PM-3:00PM Pioneer Forest- A Case Study for Conservation with Jason Green\, 3:00PM-3:30PM Nightscape Photography Basics with Ben Caruthers\, 3:30PM-4:00PM Spreading Life in the Darkness with Dan Zarlenga\, 4:00PM-5:00PM Let There be Night: Dark Skies as a Natural Resource with Dr. Vayu Gakhale of Truman State University\, 5:00PM-6:00PM Free time\, 6:00PM-11:00PM Dark Sky Party \n  \nFor more information and Brochure details Please visit darkskymissouri.org \n 
URL:https://seevanburenmo.com/event/darksky-missouri-festival/
LOCATION:Big Spring\, Big Spring Ozark National Scenic Riverways\, Van Buren\, MO\, 63965
ATTACH;FMTTYPE=image/jpeg:https://seevanburenmo.com/wp-content/uploads/2024/09/original-A246339A-5A6C-4C26-AD9B-79D788130A2E.jpeg
END:VEVENT
BEGIN:VEVENT
DTSTART;TZID=America/Denver:20241026T160000
DTEND;TZID=America/Denver:20241026T160000
DTSTAMP:20260424T065720
CREATED:20241019T023517Z
LAST-MODIFIED:20241019T023630Z
UID:244230-1729958400-1729958400@seevanburenmo.com
SUMMARY:Eastwood Fire Department Fall Festival
DESCRIPTION:Movie and popcorn (The Nightmare Before Christmas) 7:00pm\,Pumpkin Painting\, Bounce Houses\, Fall Photo booth\, Raffle drawing\, two grand prize winners\, 11 prizes total. Pie a firefighter! Come and show your support!
URL:https://seevanburenmo.com/event/eastwood-fire-department-fall-festival/
LOCATION:Eastwood Communty Center\, 7143 Carter Route C\, Van Buren\, MO\, 63965
ATTACH;FMTTYPE=image/jpeg:https://seevanburenmo.com/wp-content/uploads/2024/10/IMG_2631.jpg
END:VEVENT
BEGIN:VEVENT
DTSTART;TZID=America/Denver:20241026T160000
DTEND;TZID=America/Denver:20241026T170000
DTSTAMP:20260424T065720
CREATED:20241022T180612Z
LAST-MODIFIED:20241022T180612Z
UID:244267-1729958400-1729962000@seevanburenmo.com
SUMMARY:Mt. Zion Fall Festival
DESCRIPTION:Free Community Event! Join us for an evening of fun\, and fellowship! We will have games\, soups\, music\, hayrides and a trunk or treat!
URL:https://seevanburenmo.com/event/mt-zion-fall-festival/
LOCATION:Mount Zion Church of God Prophecy\, 464 Old Bridge Road\, Van Buren\, Mo\, 63965
ATTACH;FMTTYPE=image/jpeg:https://seevanburenmo.com/wp-content/uploads/2024/10/thumbnail_IMG_2921.jpg
END:VEVENT
BEGIN:VEVENT
DTSTART;TZID=America/Denver:20241026T180000
DTEND;TZID=America/Denver:20241026T230000
DTSTAMP:20260424T065720
CREATED:20241019T022612Z
LAST-MODIFIED:20241019T022612Z
UID:244227-1729965600-1729983600@seevanburenmo.com
SUMMARY:Horror in The Holler
DESCRIPTION:Come walk the haunted path if you DARE where you’ll encounter awesome animatronics\, scare actors\, fog\, strobe lights\, black light features\, and many more! Stay for a double feature movie and grab some awesome burgers and adult beverages from Carbi’s!!
URL:https://seevanburenmo.com/event/horror-in-the-holler/
LOCATION:Missouri Down Under Adventure Zoo\, HC 1 Box 89\, Van Buren\, 63965\, United States
ATTACH;FMTTYPE=image/jpeg:https://seevanburenmo.com/wp-content/uploads/2024/10/463616140_505526929122270_1776619036869161913_n.jpg
END:VEVENT
BEGIN:VEVENT
DTSTART;TZID=America/Denver:20241030T170000
DTEND;TZID=America/Denver:20241030T170000
DTSTAMP:20260424T065720
CREATED:20241019T024226Z
LAST-MODIFIED:20241022T180116Z
UID:244234-1730307600-1730307600@seevanburenmo.com
SUMMARY:Food Bank
DESCRIPTION:We’re excited to announce a special community event where anyone in need can receive a free mobile basket\, no qualifications required!\nDate: October 30\, 2024Time: 5 PMLocation: Mt. Zion Church of God of Prophecy\nJoin us for this unique opportunity to receive free good without any cost or requirements. It’s as simple as showing up!\nFor More Information: Jeff Berry\, 573-300-6274\nSpread the word to anyone who could benefit. We can’t wait to see you there!
URL:https://seevanburenmo.com/event/food-bank/
LOCATION:Mount Zion Church of God Prophecy\, 464 Old Bridge Road\, Van Buren\, Mo\, 63965
ATTACH;FMTTYPE=image/jpeg:https://seevanburenmo.com/wp-content/uploads/2024/10/463649776_876762527893988_1604043694268582547_n.jpg
END:VEVENT
BEGIN:VEVENT
DTSTART;TZID=America/Denver:20241031T170000
DTEND;TZID=America/Denver:20241031T170000
DTSTAMP:20260424T065720
CREATED:20241019T022235Z
LAST-MODIFIED:20241022T175910Z
UID:244223-1730394000-1730394000@seevanburenmo.com
SUMMARY:Trunk or Treat
DESCRIPTION:Join us for a Spooktacular Trunk or Treat! October 31st at 5:00pm. At Van Buren Riverfront Park. There will be a Booth contest and a Costume contest. There will be Chili/Hotdogs\, Movie by Mo Down Under\, Games\, Candy and Fun! Free Admission Contact Cori Risinger for more information 573-872-1119
URL:https://seevanburenmo.com/event/trunk-or-treat/
LOCATION:Riverfront Park Van Buren Mo
ATTACH;FMTTYPE=image/jpeg:https://seevanburenmo.com/wp-content/uploads/2024/10/IMG_2630.jpg
END:VEVENT
END:VCALENDAR