BEGIN:VCALENDAR
VERSION:2.0
PRODID:-//Van Buren Chamber of Commerce - ECPv6.7.0//NONSGML v1.0//EN
CALSCALE:GREGORIAN
METHOD:PUBLISH
X-WR-CALNAME:Van Buren Chamber of Commerce
X-ORIGINAL-URL:https://seevanburenmo.com
X-WR-CALDESC:Events for Van Buren Chamber of Commerce
REFRESH-INTERVAL;VALUE=DURATION:PT1H
X-Robots-Tag:noindex
X-PUBLISHED-TTL:PT1H
BEGIN:VTIMEZONE
TZID:America/Denver
BEGIN:DAYLIGHT
TZOFFSETFROM:-0700
TZOFFSETTO:-0600
TZNAME:MDT
DTSTART:20220313T090000
END:DAYLIGHT
BEGIN:STANDARD
TZOFFSETFROM:-0600
TZOFFSETTO:-0700
TZNAME:MST
DTSTART:20221106T080000
END:STANDARD
BEGIN:DAYLIGHT
TZOFFSETFROM:-0700
TZOFFSETTO:-0600
TZNAME:MDT
DTSTART:20230312T090000
END:DAYLIGHT
BEGIN:STANDARD
TZOFFSETFROM:-0600
TZOFFSETTO:-0700
TZNAME:MST
DTSTART:20231105T080000
END:STANDARD
BEGIN:DAYLIGHT
TZOFFSETFROM:-0700
TZOFFSETTO:-0600
TZNAME:MDT
DTSTART:20240310T090000
END:DAYLIGHT
BEGIN:STANDARD
TZOFFSETFROM:-0600
TZOFFSETTO:-0700
TZNAME:MST
DTSTART:20241103T080000
END:STANDARD
TZID:America/Chicago
BEGIN:DAYLIGHT
TZOFFSETFROM:-0600
TZOFFSETTO:-0500
TZNAME:CDT
DTSTART:20230312T080000
END:DAYLIGHT
BEGIN:STANDARD
TZOFFSETFROM:-0500
TZOFFSETTO:-0600
TZNAME:CST
DTSTART:20231105T070000
END:STANDARD
END:VTIMEZONE
BEGIN:VEVENT
DTSTART;VALUE=DATE:20240727
DTEND;VALUE=DATE:20240728
DTSTAMP:20260423T152141
CREATED:20240701T185733Z
LAST-MODIFIED:20240701T185733Z
UID:241867-1722038400-1722124799@seevanburenmo.com
SUMMARY:King Of The River Bass Tournament
DESCRIPTION:The 23rd Annual King of The River Bass Tournament! Saturday July 27th 7am-5pm at Watercress Park- Van Buren. \n$60 Entry\, $10 Big Bass\, $10 Side Pot\, and 50/50 Raffle  Trophies-cash and prizes guarantee! 1st Place- $500\, 2nd Place- $300 value\, 3rd place- $250 value\, 4th place- $200 value\, 5th place-$100 value. \n*Silent Auction @ Nutrition Center Bidding closes July 26th
URL:https://seevanburenmo.com/event/king-of-the-river-bass-tournament/
LOCATION:Carter County Nutrition Center\, 116 Ball Park Rd.\, Van Buren\, MO\, 63965\, United States
ATTACH;FMTTYPE=image/jpeg:https://seevanburenmo.com/wp-content/uploads/2024/07/Resized_Untitled_1_1719612139397.jpeg
END:VEVENT
BEGIN:VEVENT
DTSTART;TZID=America/Denver:20240706T210000
DTEND;TZID=America/Denver:20240706T213000
DTSTAMP:20260423T152141
CREATED:20240613T164006Z
LAST-MODIFIED:20240613T164006Z
UID:241604-1720299600-1720301400@seevanburenmo.com
SUMMARY:Van Buren Firworks Celebration
DESCRIPTION:Independence Day fireworks will begin at dark on Saturday July 6th. They will be set off across Riverfront Park in Van Buren.
URL:https://seevanburenmo.com/event/van-buren-firworks-celebration/
LOCATION:MO
CATEGORIES:Community Event
END:VEVENT
BEGIN:VEVENT
DTSTART;TZID=America/Denver:20240408T123000
DTEND;TZID=America/Denver:20240408T133000
DTSTAMP:20260423T152141
CREATED:20230306T162358Z
LAST-MODIFIED:20230306T165211Z
UID:237126-1712579400-1712583000@seevanburenmo.com
SUMMARY:2024 Solar Eclipse
DESCRIPTION:Experience a once-in-a-lifetime blackout in Van Buren\, MO!\nOn April 8\, 2024\, Van Buren will be in the path of totality for a solar eclipse\, with the moon completely blocking out the sun for nearly four minutes. This makes Van Buren one of the prime locations for viewing the eclipse. With unobstructed views of the sky from the beautiful Ozark National Scenic Riverways or other scenic locations throughout the area\, Van Buren is the perfect place to witness this awe-inspiring celestial event. Plus\, local institutions will be offering special programming and events for visitors. \nStart time of Partial Eclipse: 12:39:10 PM\nStart time of Totality: 1:55:49\nDuration of Totality: 3m 47.8s\nMap of Totality Path\n \nMap courtesy of NationalEclipse.com
URL:https://seevanburenmo.com/event/2024solareclipse/
LOCATION:MO
CATEGORIES:Community Event
ATTACH;FMTTYPE=image/png:https://seevanburenmo.com/wp-content/uploads/2023/03/Solar-Eclipse-Presentation-169.png
END:VEVENT
BEGIN:VEVENT
DTSTART;TZID=America/Denver:20240408T100000
DTEND;TZID=America/Denver:20240408T160000
DTSTAMP:20260423T152141
CREATED:20240325T211121Z
LAST-MODIFIED:20240325T211121Z
UID:239800-1712570400-1712592000@seevanburenmo.com
SUMMARY:'Zark Side of the Moon
DESCRIPTION:April 8th\, 2024 10am-4pm. This event is completely free\, hosted by The National Park Service! Activities include Smokey Hot Air Balloon\, A Safeplace for Eclipse Viewing\, Hands-on Fun with Solar Simulations and Eclipse Toys\, Partner Organization Booths\, Smokey Bear & Woodsy Owl\, Junior Ranger and Junior Eclipse Explorer Program\, B.A.R.K. Ranger Program\, Photo Opportunities\, Sales from Eastern National and the ORF\, and Food Vendors. For more information for these individual happenings please visit https://www.nps.gov/ozar/planyourvisit/2024-eclipse.htm#onthisPage-3. \n \nNote: There will be a lot of people in town please bring cash to event for vendors incase the internet is down.
URL:https://seevanburenmo.com/event/zark-side-of-the-moon/
LOCATION:Big Spring\, Big Spring Ozark National Scenic Riverways\, Van Buren\, MO\, 63965
ATTACH;FMTTYPE=image/webp:https://seevanburenmo.com/wp-content/uploads/2024/03/sticker-glow-srgb-20240214.webp
END:VEVENT
BEGIN:VEVENT
DTSTART;VALUE=DATE:20240407
DTEND;VALUE=DATE:20240409
DTSTAMP:20260423T152141
CREATED:20240329T134352Z
LAST-MODIFIED:20240329T143607Z
UID:239984-1712448000-1712620799@seevanburenmo.com
SUMMARY:Solar Eclipse at The Landing
DESCRIPTION:The Landing will be hosting a 2 day festival! April 7th and 8th 2024. 2 Day parking $100\, this will include a souvenir\, Eclipse glasses and 2 day event wristbands for all occupants. There will be live music\, a raft race\, food and drinks\, and a duck race. There is $5\,000 in prizes and fun! \nMonday\, April 8th Schedule is as follows: \n\n7am Parking Lot Open & Breakfast Buffet\n7am-12pm Floating Open (Pinoak Only)\n9am Dustin Recktor Music\n10:45am Jesse Charles Hammock\n11am Fish Fry on Gravel Bar\n12:45pm Just Enough\n\nECLIPSE\n\n\n3:45pm Trichrome Nebula\n4pm Ducky Race\n\n 
URL:https://seevanburenmo.com/event/solar-eclipse-at-the-landing/
LOCATION:The Landing
ATTACH;FMTTYPE=image/jpeg:https://seevanburenmo.com/wp-content/uploads/2024/03/processed-0D845198-970E-4853-86E5-EEDF01E44BF9.jpeg
END:VEVENT
BEGIN:VEVENT
DTSTART;VALUE=DATE:20240405
DTEND;VALUE=DATE:20240408
DTSTAMP:20260423T152141
CREATED:20240329T143028Z
LAST-MODIFIED:20240329T143145Z
UID:239987-1712275200-1712534399@seevanburenmo.com
SUMMARY:Solar Eclipse Weekend Special at The 21 Drive In
DESCRIPTION:The 21 Drive In will be playing a classic movie each night of the Eclipse weekend April 5th-7th! If you need a family friendly event while you are here in Van Buren check this out! They are offering a special $10/ carload each night!
URL:https://seevanburenmo.com/event/solar-eclipse-weekend-special-at-the-21-drive-in/
LOCATION:21 Drive-In Movie Theatre\, Hwy 21\, Van Buren\, 63965\, United States
ATTACH;FMTTYPE=image/jpeg:https://seevanburenmo.com/wp-content/uploads/2024/03/original-61283151-35ED-412D-8A61-526CA0E8597A.jpeg
END:VEVENT
BEGIN:VEVENT
DTSTART;TZID=America/Denver:20240330T160000
DTEND;TZID=America/Denver:20240330T200000
DTSTAMP:20260423T152141
CREATED:20240325T175252Z
LAST-MODIFIED:20240325T175418Z
UID:239791-1711814400-1711828800@seevanburenmo.com
SUMMARY:Celebrate Easter at The 21 Drive-In Theatre
DESCRIPTION:This event is Sponsored by SEMO Behavioral Health. The admission is FREE! Gates will open at 4PM. Events are as follows: Egg Hunt\, Showing of the movie HOP-PG. There will be Free Hot dogs\, Chips\, and a Small drink (while supplies last.) Come on out for some Family Friendly Fun!
URL:https://seevanburenmo.com/event/celebrate-easter-at-21-drive-in-theatre/
LOCATION:21 Drive-In Movie Theatre\, Hwy 21\, Van Buren\, 63965\, United States
ATTACH;FMTTYPE=image/jpeg:https://seevanburenmo.com/wp-content/uploads/2024/03/original-C527A9E7-3170-4FC5-B39A-CB13593F4E6E-1.jpeg
END:VEVENT
BEGIN:VEVENT
DTSTART;TZID=America/Denver:20240330T100000
DTEND;TZID=America/Denver:20240330T160000
DTSTAMP:20260423T152141
CREATED:20240325T180838Z
LAST-MODIFIED:20240325T180838Z
UID:239796-1711792800-1711814400@seevanburenmo.com
SUMMARY:Missouri Down Under Adventure Zoo Easter Celebration
DESCRIPTION:Missouri Down Under Adventure Zoo invites you to join their Easter Celebration! Saturday\, March 30th @10am-4pm. Explore the Zoo\, Meet the Roos\, and explore Current River Cave! QP’s food truck will be there. Bounce House for the kids. Meet the Easter Bunny and get photos from Regina Dazey. The Egg Hunt starts at 10:30am! General Admission Required. Ages 0-3 Free. Ages 4-14 $15.95. 15 and up $19.95.
URL:https://seevanburenmo.com/event/missouri-down-under-adventure-zoo-easter-celebration/
LOCATION:Missouri Down Under Adventure Zoo\, HC 1 Box 89\, Van Buren\, 63965\, United States
ATTACH;FMTTYPE=image/jpeg:https://seevanburenmo.com/wp-content/uploads/2024/03/original-9002AB45-D1AF-43DD-8D41-EA5A92D9FA71.jpeg
END:VEVENT
BEGIN:VEVENT
DTSTART;TZID=America/Denver:20240308T180000
DTEND;TZID=America/Denver:20240308T180000
DTSTAMP:20260423T152141
CREATED:20240229T232504Z
LAST-MODIFIED:20240229T233216Z
UID:239607-1709920800-1709920800@seevanburenmo.com
SUMMARY:Chili Cook Off
DESCRIPTION:  \nThe Carter County Senior Center is hosting a Chili Cook Off event March 8th\, 2024. Judging begins @6PM. Entry fee is $20. Prizes are as follows: 1st Place- $100\, 2nd Place-$50\, 3rd Place- $25. After judging\, there will be a chili supper available for purchase $7/person. Supper will include Hotdogs\, Chips\, Chili\, Desert and a Drink. For more information you can reach out to Barb Rodgers: 573-323-8377
URL:https://seevanburenmo.com/event/chili-cook-off/
LOCATION:Carter County Nutrition Center\, 116 Ball Park Rd.\, Van Buren\, MO\, 63965\, United States
ATTACH;FMTTYPE=image/jpeg:https://seevanburenmo.com/wp-content/uploads/2024/02/chili_cookoff_web-1.jpg
END:VEVENT
BEGIN:VEVENT
DTSTART;TZID=America/Denver:20231108T140000
DTEND;TZID=America/Denver:20231108T170000
DTSTAMP:20260423T152141
CREATED:20231018T153713Z
LAST-MODIFIED:20231018T184036Z
UID:239296-1699452000-1699462800@seevanburenmo.com
SUMMARY:Van Buren Job Fair
DESCRIPTION:The Van Buren Chamber of Commerce will hold a Career/Job Fair on November 8th from 2 to 5pm in the High School gym.\nThe main goal of this is to provide our youth with information related to the types of jobs available after High School. A secondary\, and also important goal\, is to give our residents looking for work and opportunity to meet employers who are hiring.\n\nThere will be door prizes available for those who attend!\n\nAre you a business wanting to participate in the job fair? Contact Jacob Black with JAG at jblack@vanburen.k12.mo.us\nPlease RSVP by Friday\, October 20\, 2023 if you would like to have a booth at the event.
URL:https://seevanburenmo.com/event/van-buren-job-fair/
LOCATION:MO
CATEGORIES:Community Event
END:VEVENT
BEGIN:VEVENT
DTSTART;VALUE=DATE:20231014
DTEND;VALUE=DATE:20231016
DTSTAMP:20260423T152141
CREATED:20231003T192835Z
LAST-MODIFIED:20231003T192835Z
UID:239231-1697241600-1697414399@seevanburenmo.com
SUMMARY:Van Buren Fall Festival
DESCRIPTION:Join us on the crystal clear Current River for two days of arts & crafts\, vendors\, food\, music and fun for the whole family! We’re so excited to be hosted at The Landing – Current River this year.\nParking is free\, entry is $5 per person\, kids 10 and under are free and our Veterans enter free as well with their Military Retired Identification Card or DD 214.\nWe will feature music from Tyson Zimmer\, Friends Pickin\, Iron Mountain Station and The Baker Family!!\nYes we will have our hayride shuttles this year and we added Stagecoach rides on Saturday! We will have bounce houses\, a graffiti wall and more for the kiddos.
URL:https://seevanburenmo.com/event/van-buren-fall-festival-3/
LOCATION:The Landing
CATEGORIES:Community Event
END:VEVENT
BEGIN:VEVENT
DTSTART;VALUE=DATE:20231007
DTEND;VALUE=DATE:20231008
DTSTAMP:20260423T152141
CREATED:20230929T170517Z
LAST-MODIFIED:20230929T170517Z
UID:239044-1696636800-1696723199@seevanburenmo.com
SUMMARY:Van Buren - Fall City Wide Yard Sale
DESCRIPTION:Sales will be set up all over City limits of Van Buren\, MO and outside city limits. Free set up at the old Courthouse at 105 Main Street. Set up is free anywhere you set up\, but you must get permission from any landowner if property is not yours. Come see us!! Looking forward to this annual event!!
URL:https://seevanburenmo.com/event/van-buren-fall-city-wide-yard-sale/
LOCATION:MO
CATEGORIES:Community Event
END:VEVENT
BEGIN:VEVENT
DTSTART;VALUE=DATE:20231007
DTEND;VALUE=DATE:20231008
DTSTAMP:20260423T152141
CREATED:20221003T113054Z
LAST-MODIFIED:20231003T192557Z
UID:236745-1696636800-1696723199@seevanburenmo.com
SUMMARY:River Jam at Van Buren Riverfront Park
DESCRIPTION:Come join us for an unforgettable day of music and fun at River Jam 2023\, featuring the legendary band\, The Kentucky Headhunters! Get ready to rock out! Joining The Headhunters will be a very special guest band and Coalshine\, an up and coming band from Ohio. To sweeten the deal\, we’re starting the day off with a killer car show and kick butt bike show!! You don’t want to miss this!\n\n \nDate: Saturday\, October 7\, 2023 \nTime: 11:00 AM Kicks off the Car & Bike Show – Music Starts approx 5:30PM \nLocation: 1001 Riverfront Park\, Van Buren\, MO 63965 \nTicket Price: $20 Online and $25 at the Gate (Ticket Includes Car & Bike Show Pass) \nVeterans Enter Free at Gate – Present Your Military Retired Identification Card or DD 214
URL:https://seevanburenmo.com/event/tyler-farr-at-van-buren-riverfront-park/
LOCATION:MO
CATEGORIES:Community Event
END:VEVENT
BEGIN:VEVENT
DTSTART;TZID=America/Denver:20230702T200000
DTEND;TZID=America/Denver:20230702T210000
DTSTAMP:20260423T152141
CREATED:20230701T150543Z
LAST-MODIFIED:20230701T150719Z
UID:238596-1688328000-1688331600@seevanburenmo.com
SUMMARY:Van Buren City Fireworks
DESCRIPTION:
URL:https://seevanburenmo.com/event/van-buren-city-fireworks/
LOCATION:Main Street\, Van Buren\, MO\, 105 Main Street\, Van Buren\, MO\, 63965\, United States
CATEGORIES:Community Event
ATTACH;FMTTYPE=image/png:https://seevanburenmo.com/wp-content/uploads/2023/07/Celebrate-4th-of-July-illustration-instagram-post-1-1.png
END:VEVENT
BEGIN:VEVENT
DTSTART;VALUE=DATE:20230630
DTEND;VALUE=DATE:20230702
DTSTAMP:20260423T152141
CREATED:20230612T144842Z
LAST-MODIFIED:20230613T164139Z
UID:238305-1688083200-1688255999@seevanburenmo.com
SUMMARY:Jolly Cone America Fest '23
DESCRIPTION:Make plans to attend the Jolly Cone America Fest ’23 as our friends @ RiverTime RV have joined in on the celebration with the addition of a concert. Freedom Patch Fireworks will be conducting a fireworks show immediately following the musical performances. Freedom Patch will be on site @ RiverTime RV with a fireworks stand from 6/28-7/05. Please like\, follow\, and share. These events are free to the public and all are invited. See below for details!\n\n\nSpecial thanks to the city of Van Buren\, Jolly Cone on the Current\, RiverTime RV\, The Ranch House Cafe\, and Beavers Teeth Axe Throwing Brew and Chew!\n\n\nFollow the event on Facebook
URL:https://seevanburenmo.com/event/jolly-cone-america-fest-23/
LOCATION:Main Street\, Van Buren\, MO\, 105 Main Street\, Van Buren\, MO\, 63965\, United States
CATEGORIES:Community Event
ATTACH;FMTTYPE=image/jpeg:https://seevanburenmo.com/wp-content/uploads/2023/06/IMG_6131-1.jpg
END:VEVENT
BEGIN:VEVENT
DTSTART;TZID=America/Denver:20230620T173000
DTEND;TZID=America/Denver:20230620T183000
DTSTAMP:20260423T152141
CREATED:20230519T160816Z
LAST-MODIFIED:20230519T194328Z
UID:238121-1687282200-1687285800@seevanburenmo.com
SUMMARY:Bi-Monthly Chamber Meeting
DESCRIPTION:The Van Buren Chamber of Commerce is pleased to announce its next bi-monthly chamber meeting\, scheduled for Tuesday\, June 20th\, at 5:30 PM. The meeting will be hosted at First Midwest Bank\, located in the heart of Van Buren. The event promises to be an informative and engaging evening for all local business owners and community members. \nAttendees can look forward to a delightful evening filled with light food and refreshments\, generously provided by First Midwest Bank. This provides an excellent opportunity for networking and fostering valuable connections within the local business community. \nWe are also excited to welcome a distinguished guest speaker\, Mike Schoelhamer\, the constituent services specialist from Congressman Jason Smith’s office in Poplar Bluff. With years of experience in assisting business owners\, Mr. Schoelhamer will present valuable insights into how Congressman Smith’s office can support the entrepreneurial growth and success in our community. \nDuring his presentation\, Mr. Schoelhamer will outline the various ways in which Congressman Smith’s office can provide assistance to local businesses. From navigating government regulations and policies to accessing resources and grants\, attendees will gain a comprehensive understanding of the services available to them.  \nThe Van Buren Chamber of Commerce encourages all business owners\, entrepreneurs\, and community members to mark their calendars for this important event. By attending\, you will have the opportunity to connect with fellow professionals\, gain invaluable insights\, and discover how Congressman Smith’s office can positively impact the growth and prosperity of your business. \nEvent Details: \n\nDate: Tuesday\, June 20th\nTime: 5:30 PM\nLocation: First Midwest Bank\, Van Buren\n\nPlease RSVP by vanburenmochamber@gmail.com to ensure your seat at this highly anticipated event.
URL:https://seevanburenmo.com/event/bi-monthly-chamber-meeting/
LOCATION:MO
CATEGORIES:Chamber Meeting
ATTACH;FMTTYPE=image/png:https://seevanburenmo.com/wp-content/uploads/2023/05/Copy-of-Navy-and-Red-Modern-Monthly-Meeting-Invitation-Facebook-Event-Cover.png
END:VEVENT
BEGIN:VEVENT
DTSTART;TZID=America/Denver:20230603T170000
DTEND;TZID=America/Denver:20230603T220000
DTSTAMP:20260423T152141
CREATED:20230425T144131Z
LAST-MODIFIED:20230519T162219Z
UID:237696-1685811600-1685829600@seevanburenmo.com
SUMMARY:Current River Bites & Brews
DESCRIPTION:The Van Buren Chamber of Commerce is thrilled to announce the addition of a new event – the Current River Bites & Brews. This exciting event will take place on June 3rd from 5:00 pm to 10:00 pm at the historic old Carter County Courthouse in Van Buren\, Missouri. \nThe Current River Bites & Brews is a follow-up event to the highly successful Current River Food Truck Festival\, hosted by the MU Extension\, which takes place earlier in the day from 10:00 am to 4:00 pm. With the addition of the Bites & Brews event\, visitors can now enjoy a full day of festivities in Van Buren\, starting with delicious food from food trucks during the day\, and then continuing into the evening with live music\, food trucks\, a beer tent\, and craft beer. The Bootheel United Zymgurists\, a home brewing craft beer club\, offers a selection of craft beers for sample and purchase\, providing an opportunity for craft beer enthusiasts to learn from local brewers at the craft brewers club. \nThe event will feature live music from local artists\, including Keyven Dunn\, Elliot Wade\, and headliners Jamie and Taylor\, who bring a folk vibe with their renditions of traditional favorites. \nThe Current River Bites & Brews Festival is free to attend\, making it accessible to everyone in the community. The event will take place at the historic old Carter County Courthouse\, a picturesque location that adds to the charm and ambiance of the festival. \n  \n \n 
URL:https://seevanburenmo.com/event/current-river-bites-brews/
LOCATION:Old Carter County Courthouse\, 105 Main St\, Van Buren\, MO\, 63965\, United States
CATEGORIES:Community Event
END:VEVENT
BEGIN:VEVENT
DTSTART;TZID=America/Denver:20230517T110000
DTEND;TZID=America/Denver:20230517T130000
DTSTAMP:20260423T152141
CREATED:20230425T141259Z
LAST-MODIFIED:20230425T143813Z
UID:237692-1684321200-1684328400@seevanburenmo.com
SUMMARY:Spring Health Fair
DESCRIPTION:
URL:https://seevanburenmo.com/event/spring-health-fair/
LOCATION:Carter County Nutrition Center\, 116 Ball Park Rd.\, Van Buren\, MO\, 63965\, United States
END:VEVENT
BEGIN:VEVENT
DTSTART;TZID=America/Denver:20230420T170000
DTEND;TZID=America/Denver:20230420T180000
DTSTAMP:20260423T152141
CREATED:20230404T194517Z
LAST-MODIFIED:20230404T195037Z
UID:237492-1682010000-1682013600@seevanburenmo.com
SUMMARY:Van Buren Chamber of Commerce Bi-Monthly Meeting
DESCRIPTION:The Van Buren Chamber of Commerce is excited to announce its next bi-monthly meeting to be held on Thursday\, April 20 at 5 pm at the Carter County Nutrition Center\, located at 116 Ball Park Rd\, Van Buren MO. The guest speaker for the meeting will be Jason Lott\, Superintendent of Ozark National Scenic Riverways Park. \nMr. Lott will be providing an update on the Big Spring Park renovations and other updates happening throughout the park. The Van Buren Chamber of Commerce is thrilled to have Mr. Lott speak at the meeting and provide insights into the future of the park and its impact on the local community. \nIn addition to Mr. Lott’s presentation\, the chamber will be providing updates on its progress\, including marketing efforts such as the creation of videos and brochures to promote local businesses and attractions. \nThe Van Buren Chamber of Commerce invites all members and interested parties to attend the meeting to learn more about the community and to network with other business owners and community leaders. \nFor more information about the Van Buren Chamber of Commerce or the upcoming meeting\, please contact the Chamber office at (573) 219-1916 or email us at vanburenmochamber@gmail.com. \n\n\n\n\n\n\n\n\n\n\n\n 
URL:https://seevanburenmo.com/event/van-buren-chamber-of-commerce-bi-monthly-meeting/
LOCATION:Carter County Nutrition Center\, 116 Ball Park Rd.\, Van Buren\, MO\, 63965\, United States
CATEGORIES:Chamber Meeting
ATTACH;FMTTYPE=image/png:https://seevanburenmo.com/wp-content/uploads/2023/04/Navy-and-Red-Modern-Monthly-Meeting-Invitation-Facebook-Event-Cover-3.png
END:VEVENT
BEGIN:VEVENT
DTSTART;TZID=America/Chicago:20230228T170000
DTEND;TZID=America/Chicago:20230228T180000
DTSTAMP:20260423T152141
CREATED:20230222T211318Z
LAST-MODIFIED:20230222T211358Z
UID:236984-1677603600-1677607200@seevanburenmo.com
SUMMARY:Chamber of Commerce Meeting
DESCRIPTION:
URL:https://seevanburenmo.com/event/chamber-of-commerce-meeting/
LOCATION:306 Main Street\, Van Buren\, MO\, 306 Main Street\, Van Buren\, MO\, 63965\, United States
CATEGORIES:Chamber Meeting
ATTACH;FMTTYPE=image/png:https://seevanburenmo.com/wp-content/uploads/2023/02/Navy-and-Red-Modern-Monthly-Meeting-Invitation-Facebook-Event-Cover.png
END:VEVENT
BEGIN:VEVENT
DTSTART;TZID=America/Denver:20230227T110000
DTEND;TZID=America/Denver:20230227T170000
DTSTAMP:20260423T152141
CREATED:20230222T211741Z
LAST-MODIFIED:20230222T211741Z
UID:236990-1677495600-1677517200@seevanburenmo.com
SUMMARY:Cancer Sucks! Sucker Fish Benefit for Mark House
DESCRIPTION:
URL:https://seevanburenmo.com/event/cancer-sucks-sucker-fish-benefit-for-mark-house/
LOCATION:The Landing
CATEGORIES:Fundraiser
ATTACH;FMTTYPE=image/jpeg:https://seevanburenmo.com/wp-content/uploads/2023/02/327605154_712798763558264_4228557059470699656_n.jpg
END:VEVENT
BEGIN:VEVENT
DTSTART;TZID=America/Denver:20221203T180000
DTEND;TZID=America/Denver:20221203T210000
DTSTAMP:20260423T152141
CREATED:20221003T113227Z
LAST-MODIFIED:20221020T164937Z
UID:236750-1670090400-1670101200@seevanburenmo.com
SUMMARY:Festival of Lights & Christmas Parade
DESCRIPTION:
URL:https://seevanburenmo.com/event/festival-of-lights-christmas-parade/
LOCATION:MO
END:VEVENT
BEGIN:VEVENT
DTSTART;TZID=America/Denver:20221029T160000
DTEND;TZID=America/Denver:20221029T230000
DTSTAMP:20260423T152141
CREATED:20221003T113138Z
LAST-MODIFIED:20221020T165219Z
UID:236748-1667059200-1667084400@seevanburenmo.com
SUMMARY:Trunk or Treat at Watercress Park
DESCRIPTION:
URL:https://seevanburenmo.com/event/trunk-or-treat-at-watercress-park/
LOCATION:Watercress Park
END:VEVENT
BEGIN:VEVENT
DTSTART;TZID=America/Denver:20221009T090000
DTEND;TZID=America/Denver:20221009T140000
DTSTAMP:20260423T152141
CREATED:20221003T112748Z
LAST-MODIFIED:20221003T112748Z
UID:236743-1665306000-1665324000@seevanburenmo.com
SUMMARY:Van Buren Fall Festival
DESCRIPTION:
URL:https://seevanburenmo.com/event/van-buren-fall-festival-2/
LOCATION:MO
END:VEVENT
BEGIN:VEVENT
DTSTART;TZID=America/Denver:20221008T090000
DTEND;TZID=America/Denver:20221008T170000
DTSTAMP:20260423T152141
CREATED:20221003T112617Z
LAST-MODIFIED:20221003T112617Z
UID:236741-1665219600-1665248400@seevanburenmo.com
SUMMARY:Van Buren Fall Festival
DESCRIPTION:
URL:https://seevanburenmo.com/event/van-buren-fall-festival/
LOCATION:MO
END:VEVENT
END:VCALENDAR