BEGIN:VCALENDAR
VERSION:2.0
PRODID:-//Van Buren Chamber of Commerce - ECPv6.7.0//NONSGML v1.0//EN
CALSCALE:GREGORIAN
METHOD:PUBLISH
X-ORIGINAL-URL:https://seevanburenmo.com
X-WR-CALDESC:Events for Van Buren Chamber of Commerce
REFRESH-INTERVAL;VALUE=DURATION:PT1H
X-Robots-Tag:noindex
X-PUBLISHED-TTL:PT1H
BEGIN:VTIMEZONE
TZID:America/Denver
BEGIN:DAYLIGHT
TZOFFSETFROM:-0700
TZOFFSETTO:-0600
TZNAME:MDT
DTSTART:20230312T090000
END:DAYLIGHT
BEGIN:STANDARD
TZOFFSETFROM:-0600
TZOFFSETTO:-0700
TZNAME:MST
DTSTART:20231105T080000
END:STANDARD
BEGIN:DAYLIGHT
TZOFFSETFROM:-0700
TZOFFSETTO:-0600
TZNAME:MDT
DTSTART:20240310T090000
END:DAYLIGHT
BEGIN:STANDARD
TZOFFSETFROM:-0600
TZOFFSETTO:-0700
TZNAME:MST
DTSTART:20241103T080000
END:STANDARD
BEGIN:DAYLIGHT
TZOFFSETFROM:-0700
TZOFFSETTO:-0600
TZNAME:MDT
DTSTART:20250309T090000
END:DAYLIGHT
BEGIN:STANDARD
TZOFFSETFROM:-0600
TZOFFSETTO:-0700
TZNAME:MST
DTSTART:20251102T080000
END:STANDARD
END:VTIMEZONE
BEGIN:VEVENT
DTSTART;TZID=America/Denver:20250705T170000
DTEND;TZID=America/Denver:20250705T220000
DTSTAMP:20260423T092208
CREATED:20250603T143630Z
LAST-MODIFIED:20250603T143630Z
UID:246603-1751734800-1751752800@seevanburenmo.com
SUMMARY:Freedom Celebration on the Current
DESCRIPTION:🎆 Freedom Celebration on the Current 🎆\nSaturday\, July 5th\, 2025📍 Riverfront Park – Van Buren\, Missouri \nJoin us for a patriotic celebration along the banks of the Current River! Help keep Van Buren’s beloved fireworks tradition alive by donating to the City Fireworks Fund. \n\n🔥 Become a Sponsor\nYour donation supports the annual fireworks show and earns you a spot on this year’s commemorative t-shirt! \nSponsorship Levels: \n\n\n💎 Platinum – $500+ \n\n\n🥇 Gold – $300 \n\n\n🥈 Silver – $200 \n\n\n🥉 Bronze – $100 \n\n\nAll sponsors will be printed on the back of the official 2025 event t-shirt. \n\n👕 Commemorative T-Shirts\nOrder your shirt to show your support and wear your patriotic pride!Order Deadline: Monday\, June 16th \nPricing: \n\n\nYouth Small – Adult XL: $20 \n\n\n2XL: $22 \n\n\n3XL–5XL: $23 \n\n\n🔗 Order online:https://bapromotions.com/product-category/fundraisers/freedom-celebration-on-the-current-river/🔐 Use password: FREE \n📱 Or scan the QR code on the flyer to order directly. \n\n📞 Questions or Want to Sponsor Directly?\nContact: \n\n\nCity Hall: 573-323-4335 \n\n\nHolt Sales Inc.: 573-323-0440 \n\n\n\nCelebrate your freedom\, support your community\, and make memories under the stars this July 5th in beautiful Van Buren\, Missouri. \nLet’s light up the sky together! 🎇
URL:https://seevanburenmo.com/event/freedom-celebration-on-the-current/
LOCATION:Riverfront Park Van Buren Mo
CATEGORIES:Community Event,Fundraiser
ATTACH;FMTTYPE=image/jpeg:https://seevanburenmo.com/wp-content/uploads/2025/06/July-4th-scaled.jpg
END:VEVENT
BEGIN:VEVENT
DTSTART;TZID=America/Denver:20250614T100000
DTEND;TZID=America/Denver:20250614T150000
DTSTAMP:20260423T092208
CREATED:20250519T195400Z
LAST-MODIFIED:20250519T195621Z
UID:246566-1749895200-1749913200@seevanburenmo.com
SUMMARY:Carson & Erik Benefit
DESCRIPTION:An all day event with proceeds benefiting local car accident victims Carson Van Wagner and Erik Ortega will be held on June 14th at Riverfront Park.\nA Boat Poker Run will start at 10 am. There will be a fish fry starting at noon. Live music and auction will follow.
URL:https://seevanburenmo.com/event/carson-erik-benefit/
LOCATION:Riverfront Park Van Buren Mo
CATEGORIES:Community Event,Fundraiser
ATTACH;FMTTYPE=image/jpeg:https://seevanburenmo.com/wp-content/uploads/2025/05/EVENT-2-scaled.jpg
END:VEVENT
BEGIN:VEVENT
DTSTART;TZID=America/Denver:20250607T100000
DTEND;TZID=America/Denver:20250607T150000
DTSTAMP:20260423T092208
CREATED:20250519T194541Z
LAST-MODIFIED:20250519T194601Z
UID:246561-1749290400-1749308400@seevanburenmo.com
SUMMARY:Combat Veterans Motorcycle Assoc. Chapter 4-10 Dice Run
DESCRIPTION:A Dice Run will begin at the historic Carter County Courthouse in Van Buren on Saturday June 7th with first hand leaving at 10am. $20 per hand and $10 additional with all proceeds going toward helping local area veterans. All vehicles welcome.
URL:https://seevanburenmo.com/event/combat-veterans-motorcycle-assoc-chapter-4-10-dice-run/
CATEGORIES:Community Event,Fundraiser
ATTACH;FMTTYPE=image/jpeg:https://seevanburenmo.com/wp-content/uploads/2025/05/EVENT-1.jpg
END:VEVENT
BEGIN:VEVENT
DTSTART;TZID=America/Denver:20230227T110000
DTEND;TZID=America/Denver:20230227T170000
DTSTAMP:20260423T092208
CREATED:20230222T211741Z
LAST-MODIFIED:20230222T211741Z
UID:236990-1677495600-1677517200@seevanburenmo.com
SUMMARY:Cancer Sucks! Sucker Fish Benefit for Mark House
DESCRIPTION:
URL:https://seevanburenmo.com/event/cancer-sucks-sucker-fish-benefit-for-mark-house/
LOCATION:The Landing
CATEGORIES:Fundraiser
ATTACH;FMTTYPE=image/jpeg:https://seevanburenmo.com/wp-content/uploads/2023/02/327605154_712798763558264_4228557059470699656_n.jpg
END:VEVENT
END:VCALENDAR