BEGIN:VCALENDAR
VERSION:2.0
PRODID:-//Van Buren Chamber of Commerce - ECPv6.7.0//NONSGML v1.0//EN
CALSCALE:GREGORIAN
METHOD:PUBLISH
X-WR-CALNAME:Van Buren Chamber of Commerce
X-ORIGINAL-URL:https://seevanburenmo.com
X-WR-CALDESC:Events for Van Buren Chamber of Commerce
REFRESH-INTERVAL;VALUE=DURATION:PT1H
X-Robots-Tag:noindex
X-PUBLISHED-TTL:PT1H
BEGIN:VTIMEZONE
TZID:America/Denver
BEGIN:DAYLIGHT
TZOFFSETFROM:-0700
TZOFFSETTO:-0600
TZNAME:MDT
DTSTART:20250309T090000
END:DAYLIGHT
BEGIN:STANDARD
TZOFFSETFROM:-0600
TZOFFSETTO:-0700
TZNAME:MST
DTSTART:20251102T080000
END:STANDARD
END:VTIMEZONE
BEGIN:VEVENT
DTSTART;VALUE=DATE:20251004
DTEND;VALUE=DATE:20251005
DTSTAMP:20260423T161609
CREATED:20250903T200656Z
LAST-MODIFIED:20250903T200656Z
UID:246861-1759536000-1759622399@seevanburenmo.com
SUMMARY:Pop's River Jam & Fall Festival Featuring Graham Barham
DESCRIPTION:Welcome to Pop’s River Jam & Fall Festival! \nJoin us at Van Buren Riverfront Park for a full day of live music\, food\, shopping\, monster truck rides\, a mechanical bull\, and tons more family fun along the beautiful Current River. \n🎤 Concert Lineup:✨ Headlining is rising country music star Graham Barham✨ From The Voice\, powerhouse vocalist Trevon Dawson✨ Fresh from Bike Week in Sturgis\, SD – the high-energy John Scalia & The Dirty Word \n🚗 The Largest Car Show in the Ozarks – Don’t miss this massive showcase of classic cars\, hot rods\, and custom rides that will blow you away. \n🎵 Live Music All Day – Along with our incredible headliners\, enjoy an amazing lineup of local and regional performers.🍔 Delicious Food & Drinks – From classic festival favorites to unique local flavors\, there’s something for every craving.🛍️ Local Vendors & Artisans – Shop handmade crafts\, boutique finds\, and specialty goods you won’t see anywhere else.🎉 Family-Friendly Fun – From bounce houses to face painting\, monster truck rides to the mechanical bull\, this event brings back that down-home get-together feel that reminds everyone why it’s so great to gather and have fun! \n🪑 Concert Seating Note: Bring your own lawn chair for the concert so you can kick back and relax by the river — but please leave the coolers at home. \n📲 Stay Connected: Follow Pop’s Events on Facebook\, Instagram\, & TikTok for the latest updates\, announcements\, and behind-the-scenes fun leading up to the festival! \nWhether you’re here for the music\, the cars\, the shopping\, or just to soak up the fall vibes by the river\, Pop’s River Jam & Fall Festival is the perfect way to celebrate the season.
URL:https://seevanburenmo.com/event/pops-river-jam-fall-festival-featuring-graham-barham/
LOCATION:Riverfront Park Van Buren Mo
CATEGORIES:Community Event
ATTACH;FMTTYPE=image/png:https://seevanburenmo.com/wp-content/uploads/2025/09/1756923273572blob.png
END:VEVENT
END:VCALENDAR