BEGIN:VCALENDAR
VERSION:2.0
PRODID:-//Van Buren Chamber of Commerce - ECPv6.7.0//NONSGML v1.0//EN
CALSCALE:GREGORIAN
METHOD:PUBLISH
X-WR-CALNAME:Van Buren Chamber of Commerce
X-ORIGINAL-URL:https://seevanburenmo.com
X-WR-CALDESC:Events for Van Buren Chamber of Commerce
REFRESH-INTERVAL;VALUE=DURATION:PT1H
X-Robots-Tag:noindex
X-PUBLISHED-TTL:PT1H
BEGIN:VTIMEZONE
TZID:America/Denver
BEGIN:DAYLIGHT
TZOFFSETFROM:-0700
TZOFFSETTO:-0600
TZNAME:MDT
DTSTART:20230312T090000
END:DAYLIGHT
BEGIN:STANDARD
TZOFFSETFROM:-0600
TZOFFSETTO:-0700
TZNAME:MST
DTSTART:20231105T080000
END:STANDARD
TZID:America/Chicago
BEGIN:DAYLIGHT
TZOFFSETFROM:-0600
TZOFFSETTO:-0500
TZNAME:CDT
DTSTART:20230312T080000
END:DAYLIGHT
BEGIN:STANDARD
TZOFFSETFROM:-0500
TZOFFSETTO:-0600
TZNAME:CST
DTSTART:20231105T070000
END:STANDARD
END:VTIMEZONE
BEGIN:VEVENT
DTSTART;TZID=America/Denver:20230620T173000
DTEND;TZID=America/Denver:20230620T183000
DTSTAMP:20260423T133507
CREATED:20230519T160816Z
LAST-MODIFIED:20230519T194328Z
UID:238121-1687282200-1687285800@seevanburenmo.com
SUMMARY:Bi-Monthly Chamber Meeting
DESCRIPTION:The Van Buren Chamber of Commerce is pleased to announce its next bi-monthly chamber meeting\, scheduled for Tuesday\, June 20th\, at 5:30 PM. The meeting will be hosted at First Midwest Bank\, located in the heart of Van Buren. The event promises to be an informative and engaging evening for all local business owners and community members. \nAttendees can look forward to a delightful evening filled with light food and refreshments\, generously provided by First Midwest Bank. This provides an excellent opportunity for networking and fostering valuable connections within the local business community. \nWe are also excited to welcome a distinguished guest speaker\, Mike Schoelhamer\, the constituent services specialist from Congressman Jason Smith’s office in Poplar Bluff. With years of experience in assisting business owners\, Mr. Schoelhamer will present valuable insights into how Congressman Smith’s office can support the entrepreneurial growth and success in our community. \nDuring his presentation\, Mr. Schoelhamer will outline the various ways in which Congressman Smith’s office can provide assistance to local businesses. From navigating government regulations and policies to accessing resources and grants\, attendees will gain a comprehensive understanding of the services available to them.  \nThe Van Buren Chamber of Commerce encourages all business owners\, entrepreneurs\, and community members to mark their calendars for this important event. By attending\, you will have the opportunity to connect with fellow professionals\, gain invaluable insights\, and discover how Congressman Smith’s office can positively impact the growth and prosperity of your business. \nEvent Details: \n\nDate: Tuesday\, June 20th\nTime: 5:30 PM\nLocation: First Midwest Bank\, Van Buren\n\nPlease RSVP by vanburenmochamber@gmail.com to ensure your seat at this highly anticipated event.
URL:https://seevanburenmo.com/event/bi-monthly-chamber-meeting/
CATEGORIES:Chamber Meeting
ATTACH;FMTTYPE=image/png:https://seevanburenmo.com/wp-content/uploads/2023/05/Copy-of-Navy-and-Red-Modern-Monthly-Meeting-Invitation-Facebook-Event-Cover.png
END:VEVENT
BEGIN:VEVENT
DTSTART;TZID=America/Denver:20230420T170000
DTEND;TZID=America/Denver:20230420T180000
DTSTAMP:20260423T133507
CREATED:20230404T194517Z
LAST-MODIFIED:20230404T195037Z
UID:237492-1682010000-1682013600@seevanburenmo.com
SUMMARY:Van Buren Chamber of Commerce Bi-Monthly Meeting
DESCRIPTION:The Van Buren Chamber of Commerce is excited to announce its next bi-monthly meeting to be held on Thursday\, April 20 at 5 pm at the Carter County Nutrition Center\, located at 116 Ball Park Rd\, Van Buren MO. The guest speaker for the meeting will be Jason Lott\, Superintendent of Ozark National Scenic Riverways Park. \nMr. Lott will be providing an update on the Big Spring Park renovations and other updates happening throughout the park. The Van Buren Chamber of Commerce is thrilled to have Mr. Lott speak at the meeting and provide insights into the future of the park and its impact on the local community. \nIn addition to Mr. Lott’s presentation\, the chamber will be providing updates on its progress\, including marketing efforts such as the creation of videos and brochures to promote local businesses and attractions. \nThe Van Buren Chamber of Commerce invites all members and interested parties to attend the meeting to learn more about the community and to network with other business owners and community leaders. \nFor more information about the Van Buren Chamber of Commerce or the upcoming meeting\, please contact the Chamber office at (573) 219-1916 or email us at vanburenmochamber@gmail.com. \n\n\n\n\n\n\n\n\n\n\n\n 
URL:https://seevanburenmo.com/event/van-buren-chamber-of-commerce-bi-monthly-meeting/
LOCATION:Carter County Nutrition Center\, 116 Ball Park Rd.\, Van Buren\, MO\, 63965\, United States
CATEGORIES:Chamber Meeting
ATTACH;FMTTYPE=image/png:https://seevanburenmo.com/wp-content/uploads/2023/04/Navy-and-Red-Modern-Monthly-Meeting-Invitation-Facebook-Event-Cover-3.png
END:VEVENT
BEGIN:VEVENT
DTSTART;TZID=America/Chicago:20230228T170000
DTEND;TZID=America/Chicago:20230228T180000
DTSTAMP:20260423T133507
CREATED:20230222T211318Z
LAST-MODIFIED:20230222T211358Z
UID:236984-1677603600-1677607200@seevanburenmo.com
SUMMARY:Chamber of Commerce Meeting
DESCRIPTION:
URL:https://seevanburenmo.com/event/chamber-of-commerce-meeting/
LOCATION:306 Main Street\, Van Buren\, MO\, 306 Main Street\, Van Buren\, MO\, 63965\, United States
CATEGORIES:Chamber Meeting
ATTACH;FMTTYPE=image/png:https://seevanburenmo.com/wp-content/uploads/2023/02/Navy-and-Red-Modern-Monthly-Meeting-Invitation-Facebook-Event-Cover.png
END:VEVENT
END:VCALENDAR