BEGIN:VCALENDAR
VERSION:2.0
PRODID:-//Van Buren Chamber of Commerce - ECPv6.7.0//NONSGML v1.0//EN
CALSCALE:GREGORIAN
METHOD:PUBLISH
X-WR-CALNAME:Van Buren Chamber of Commerce
X-ORIGINAL-URL:https://seevanburenmo.com
X-WR-CALDESC:Events for Van Buren Chamber of Commerce
REFRESH-INTERVAL;VALUE=DURATION:PT1H
X-Robots-Tag:noindex
X-PUBLISHED-TTL:PT1H
BEGIN:VTIMEZONE
TZID:America/Denver
BEGIN:DAYLIGHT
TZOFFSETFROM:-0700
TZOFFSETTO:-0600
TZNAME:MDT
DTSTART:20260308T090000
END:DAYLIGHT
BEGIN:STANDARD
TZOFFSETFROM:-0600
TZOFFSETTO:-0700
TZNAME:MST
DTSTART:20261101T080000
END:STANDARD
END:VTIMEZONE
BEGIN:VEVENT
DTSTART;TZID=America/Denver:20260424T120000
DTEND;TZID=America/Denver:20260424T170000
DTSTAMP:20260423T033657
CREATED:20260413T180708Z
LAST-MODIFIED:20260413T180708Z
UID:270464-1777032000-1777050000@seevanburenmo.com
SUMMARY:Spring into Wellness Resource Fair
DESCRIPTION:
URL:https://seevanburenmo.com/event/spring-into-wellness-resource-fair/
LOCATION:Van Buren Youth & Community Center\, 1204 Co Rd. D.\, Van Buren\, MO\, 63965\, United States
ATTACH;FMTTYPE=image/jpeg:https://seevanburenmo.com/wp-content/uploads/2026/04/Spring-Into-Wellness-scaled.jpg
END:VEVENT
BEGIN:VEVENT
DTSTART;TZID=America/Denver:20260502T090000
DTEND;TZID=America/Denver:20260502T130000
DTSTAMP:20260423T033657
CREATED:20260413T180942Z
LAST-MODIFIED:20260413T181456Z
UID:270471-1777712400-1777726800@seevanburenmo.com
SUMMARY:Van Buren Farmer's Market
DESCRIPTION:
URL:https://seevanburenmo.com/event/van-buren-farmers-market/
LOCATION:Old Carter County Courthouse\, 105 Main St\, Van Buren\, MO\, 63965\, United States
CATEGORIES:Community Event
ATTACH;FMTTYPE=image/png:https://seevanburenmo.com/wp-content/uploads/2026/04/Farmers-Market.png
END:VEVENT
BEGIN:VEVENT
DTSTART;TZID=America/Denver:20260516T193000
DTEND;TZID=America/Denver:20260516T230000
DTSTAMP:20260423T033657
CREATED:20260413T181956Z
LAST-MODIFIED:20260413T181956Z
UID:270474-1778959800-1778972400@seevanburenmo.com
SUMMARY:Pecos and the Rooftops concert
DESCRIPTION:Pecos & The Rooftops\nRiverside Amphitheater\n\n\nMay 16\, 2026 7:30 PM following Thunder on the Current boat races. \n\nDoors Open: 6:30 PM \n\n\n\n\n\n\n\nTICKET PRICES CURRENTLY AVAILABLE \n\nPIT: $47.50 \n\n\nGA: $32.50 \n\n\n\n\n\n\n\n 
URL:https://seevanburenmo.com/event/pecos-and-the-rooftops-concert/
LOCATION:Riverside Amphitheatre\, 611 Chicopee Rd.\, Van Buren\, MO\, 63965\, United States
CATEGORIES:Community Event
ATTACH;FMTTYPE=image/png:https://seevanburenmo.com/wp-content/uploads/2026/04/Pecos.png
END:VEVENT
BEGIN:VEVENT
DTSTART;TZID=America/Denver:20260606T120000
DTEND;TZID=America/Denver:20260606T170000
DTSTAMP:20260423T033657
CREATED:20260413T182350Z
LAST-MODIFIED:20260413T182350Z
UID:270478-1780747200-1780765200@seevanburenmo.com
SUMMARY:Rivertime BBQ Cookoff at Rivertime RV
DESCRIPTION:BBQ COOK OFF\nDATE: June 6\, 2026\nWin prizes for contest winners\nRiverTime RV in Van Buren\, MO\nCome cook your favorite BBQ\, hang with your friends\, win prizes\, and have a blast!
URL:https://seevanburenmo.com/event/rivertime-bbq-cookoff-at-rivertime-rv/
LOCATION:Rivertime RV\, 1802 Gossett lane\, Van Buren\, MO\, 63965
CATEGORIES:Community Event
ATTACH;FMTTYPE=image/png:https://seevanburenmo.com/wp-content/uploads/2026/04/BBQ-Competition.png
END:VEVENT
BEGIN:VEVENT
DTSTART;TZID=America/Denver:20260627T150000
DTEND;TZID=America/Denver:20260627T200000
DTSTAMP:20260423T033657
CREATED:20221003T113303Z
LAST-MODIFIED:20260413T180210Z
UID:236752-1782572400-1782590400@seevanburenmo.com
SUMMARY:6th Annual Food Truck Festival
DESCRIPTION:6th annual Current River Food Truck Festival!\n\n\nSaturday\, June 27\, 2026 | 3-8 PM\nHistoric Carter County Courthouse | Van Buren\, MO\n\n\n\nWe are excited to announce our live entertainment lineup!\n\n\n\nActivities for the entire family:\nKids Zone | Facepainting | Raffle (kayak) | Corn hole | and More!\n\n\n\nThe Food Truck Festival is the annual fundraiser for the Carter County MU Extension which supports the county 4H activities\, as well as county educational programming and other community resources and support.
URL:https://seevanburenmo.com/event/food-truck-festival/
LOCATION:Main Street\, Van Buren\, MO\, 105 Main Street\, Van Buren\, MO\, 63965\, United States
CATEGORIES:Community Event,Fundraiser
ATTACH;FMTTYPE=image/png:https://seevanburenmo.com/wp-content/uploads/2022/10/1750170123542blob-scaled.png
END:VEVENT
END:VCALENDAR