BEGIN:VCALENDAR
VERSION:2.0
PRODID:-//Van Buren Chamber of Commerce - ECPv6.7.0//NONSGML v1.0//EN
CALSCALE:GREGORIAN
METHOD:PUBLISH
X-WR-CALNAME:Van Buren Chamber of Commerce
X-ORIGINAL-URL:https://seevanburenmo.com
X-WR-CALDESC:Events for Van Buren Chamber of Commerce
REFRESH-INTERVAL;VALUE=DURATION:PT1H
X-Robots-Tag:noindex
X-PUBLISHED-TTL:PT1H
BEGIN:VTIMEZONE
TZID:America/Denver
BEGIN:DAYLIGHT
TZOFFSETFROM:-0700
TZOFFSETTO:-0600
TZNAME:MDT
DTSTART:20250309T090000
END:DAYLIGHT
BEGIN:STANDARD
TZOFFSETFROM:-0600
TZOFFSETTO:-0700
TZNAME:MST
DTSTART:20251102T080000
END:STANDARD
END:VTIMEZONE
BEGIN:VEVENT
DTSTART;VALUE=DATE:20250920
DTEND;VALUE=DATE:20250921
DTSTAMP:20260423T174345
CREATED:20250903T200213Z
LAST-MODIFIED:20250903T200213Z
UID:246856-1758326400-1758412799@seevanburenmo.com
SUMMARY:Thunder on the Current
DESCRIPTION:Get ready for a day of high-octane action on the river in Van Buren\, Missouri! Thunder on the Current returns on Saturday\, September 20\, 2025\, at Riverside on the Current (611 Chicopee Rd). \n\n\nRaces begin at 9:00 AM with multiple classes of in-board aluminum\, glass boats\, and outboards competing for the title of King of the River. \n\n\nConcert gates open at 6:00 PM\, featuring the Eli Young Band – Strange Hours Tour live on stage! \n\n\n🎟 Admission is just $20 per person or grab a $40 weekend armband for the full experience. \nCome enjoy thrilling boat races by day and incredible live music by night\, all on the scenic Current River.
URL:https://seevanburenmo.com/event/thunder-on-the-current-2/
LOCATION:Riverside Amphitheatre\, 611 Chicopee Rd.\, Van Buren\, MO\, 63965\, United States
CATEGORIES:Community Event
ATTACH;FMTTYPE=image/png:https://seevanburenmo.com/wp-content/uploads/2025/09/1756922958739blob-scaled.png
END:VEVENT
END:VCALENDAR