BEGIN:VCALENDAR
VERSION:2.0
PRODID:-//Van Buren Chamber of Commerce - ECPv6.7.0//NONSGML v1.0//EN
CALSCALE:GREGORIAN
METHOD:PUBLISH
X-WR-CALNAME:Van Buren Chamber of Commerce
X-ORIGINAL-URL:https://seevanburenmo.com
X-WR-CALDESC:Events for Van Buren Chamber of Commerce
REFRESH-INTERVAL;VALUE=DURATION:PT1H
X-Robots-Tag:noindex
X-PUBLISHED-TTL:PT1H
BEGIN:VTIMEZONE
TZID:America/Denver
BEGIN:DAYLIGHT
TZOFFSETFROM:-0700
TZOFFSETTO:-0600
TZNAME:MDT
DTSTART:20250309T090000
END:DAYLIGHT
BEGIN:STANDARD
TZOFFSETFROM:-0600
TZOFFSETTO:-0700
TZNAME:MST
DTSTART:20251102T080000
END:STANDARD
END:VTIMEZONE
BEGIN:VEVENT
DTSTART;TZID=America/Denver:20250913T100000
DTEND;TZID=America/Denver:20250913T160000
DTSTAMP:20260423T174345
CREATED:20250827T200302Z
LAST-MODIFIED:20250827T200302Z
UID:246769-1757757600-1757779200@seevanburenmo.com
SUMMARY:Butler & Carter Counties Americorps Seniors - Current River Cleanup
DESCRIPTION:Fourth Annual 9/11 Day of Service Project. Help by boat\, kayak\, canoe\, or foot. Registration 10am at two locations – Watercress Spring and The Landing. 3pm meet at Big Springs for food and door prizes. Trash collection at Big Spring. Drop off trash by 3pm\, join party at pavilion. For more information contact Jennifer Rosener at 573-686-8624 or email jennifer.rosener@thecrc.org.
URL:https://seevanburenmo.com/event/butler-carter-counties-americorps-seniors-current-river-cleanup/
LOCATION:Big Spring\, Big Spring Ozark National Scenic Riverways\, Van Buren\, MO\, 63965
CATEGORIES:Community Event
END:VEVENT
END:VCALENDAR