BEGIN:VCALENDAR
VERSION:2.0
PRODID:-//Van Buren Chamber of Commerce - ECPv6.7.0//NONSGML v1.0//EN
CALSCALE:GREGORIAN
METHOD:PUBLISH
X-ORIGINAL-URL:https://seevanburenmo.com
X-WR-CALDESC:Events for Van Buren Chamber of Commerce
REFRESH-INTERVAL;VALUE=DURATION:PT1H
X-Robots-Tag:noindex
X-PUBLISHED-TTL:PT1H
BEGIN:VTIMEZONE
TZID:America/Denver
BEGIN:DAYLIGHT
TZOFFSETFROM:-0700
TZOFFSETTO:-0600
TZNAME:MDT
DTSTART:20240310T090000
END:DAYLIGHT
BEGIN:STANDARD
TZOFFSETFROM:-0600
TZOFFSETTO:-0700
TZNAME:MST
DTSTART:20241103T080000
END:STANDARD
END:VTIMEZONE
BEGIN:VEVENT
DTSTART;TZID=America/Denver:20240921T100000
DTEND;TZID=America/Denver:20240922T170000
DTSTAMP:20260424T095810
CREATED:20240906T153514Z
LAST-MODIFIED:20240906T153514Z
UID:243800-1726912800-1727024400@seevanburenmo.com
SUMMARY:Thunder On The Current
DESCRIPTION:Hellbenders on the Current in Van Buren is hosting boat racing along with music\, food and vendors. Come and see some of the fastest boats in the area and have fun with the whole family!
URL:https://seevanburenmo.com/event/thunder-on-the-current/
LOCATION:MO
ATTACH;FMTTYPE=image/jpeg:https://seevanburenmo.com/wp-content/uploads/2024/09/BOAT-RACE.jpg
END:VEVENT
END:VCALENDAR